BEGIN:VCALENDAR
VERSION:2.0
PRODID:-//Réseau MAGIS - ECPv6.15.20//NONSGML v1.0//EN
CALSCALE:GREGORIAN
METHOD:PUBLISH
X-WR-CALNAME:Réseau MAGIS
X-ORIGINAL-URL:https://www.reseau-magis.org
X-WR-CALDESC:Évènements pour Réseau MAGIS
REFRESH-INTERVAL;VALUE=DURATION:PT1H
X-Robots-Tag:noindex
X-PUBLISHED-TTL:PT1H
BEGIN:VTIMEZONE
TZID:Europe/Paris
BEGIN:DAYLIGHT
TZOFFSETFROM:+0100
TZOFFSETTO:+0200
TZNAME:CEST
DTSTART:20250330T010000
END:DAYLIGHT
BEGIN:STANDARD
TZOFFSETFROM:+0200
TZOFFSETTO:+0100
TZNAME:CET
DTSTART:20251026T010000
END:STANDARD
BEGIN:DAYLIGHT
TZOFFSETFROM:+0100
TZOFFSETTO:+0200
TZNAME:CEST
DTSTART:20260329T010000
END:DAYLIGHT
BEGIN:STANDARD
TZOFFSETFROM:+0200
TZOFFSETTO:+0100
TZNAME:CET
DTSTART:20261025T010000
END:STANDARD
BEGIN:DAYLIGHT
TZOFFSETFROM:+0100
TZOFFSETTO:+0200
TZNAME:CEST
DTSTART:20270328T010000
END:DAYLIGHT
BEGIN:STANDARD
TZOFFSETFROM:+0200
TZOFFSETTO:+0100
TZNAME:CET
DTSTART:20271031T010000
END:STANDARD
END:VTIMEZONE
BEGIN:VEVENT
DTSTART;VALUE=DATE:20260418
DTEND;VALUE=DATE:20260420
DTSTAMP:20260419T165055
CREATED:20250219T112722Z
LAST-MODIFIED:20260310T164448Z
UID:8116-1776470400-1776643199@www.reseau-magis.org
SUMMARY:WE de découverte de la Communication Non Violente (CNV)
DESCRIPTION:WE de découverte de la Communication Non Violente (CNV)\, en lien avec l’Année Déclic\nWeek-end d’initiation à la Communication Non violente à partir d’exercices\, de topos\, de jeux\, découvrir une manière de prendre soin de ses besoins et de ses émotions. Découvrir des éléments de la CNV.  Avec Madame Fabienne RAMIREZ\, formatrice en cours de certification en CNV et son mari\, Xavier JACQUEMET\, diacre permanent. Ce WE se vivra en lien avec des jeunes du parcours de discernement Année Déclic proposé par Magis mais c’est bien ouvert à tous les 20-35 ans ! Renseignements : Soeur Nathalie Albert\, srnathalie@gmail.com\,
URL:https://www.reseau-magis.org/event/we-de-decouverte-de-la-communication-non-violente-cnv/
ATTACH;FMTTYPE=image/png:https://www.reseau-magis.org/wp-content/uploads/2025/02/mainsoleil.png
END:VEVENT
BEGIN:VEVENT
DTSTART;VALUE=DATE:20260419
DTEND;VALUE=DATE:20260503
DTSTAMP:20260419T165055
CREATED:20240627T122150Z
LAST-MODIFIED:20260108T135026Z
UID:7275-1776556800-1777766399@www.reseau-magis.org
SUMMARY:Retraite choix de vie - Cénacle
DESCRIPTION:Retraite destinée aux jeunes de 20 à 35 ans ayant à prendre une décision importante ou à choisir un état de vie : mariage\, vie religieuse\, vie consacrée\, sacerdoce. \nAu cours de la retraite : \n\nDes indications pour prier de différentes façons\, tout particulièrement avec la Parole de Dieu\nL’aide d’un accompagnement individuel et quotidien\nDes indications de vie spirituelle pour vivre la retraite\nLa possibilité de marcher ou de faire quelques travaux manuels pour équilibrer le rythme de ses journées\nLe silence comme moyen d’entrer en relation plus vraie avec Dieu\, soi-même et les autres\nL’Eucharistie quotidienne et la prière avec la communauté\n\nPlus d’informations : https://www.ndcenacle.org/activite/retraite-choix-de-vie-magis/
URL:https://www.reseau-magis.org/event/retraite-choix-de-vie-cenacle-6/
ATTACH;FMTTYPE=image/png:https://www.reseau-magis.org/wp-content/uploads/2023/09/image_2024-01-25_150712151.png
END:VEVENT
END:VCALENDAR