BEGIN:VCALENDAR
VERSION:2.0
PRODID:-//Réseau MAGIS - ECPv6.15.20//NONSGML v1.0//EN
CALSCALE:GREGORIAN
METHOD:PUBLISH
X-WR-CALNAME:Réseau MAGIS
X-ORIGINAL-URL:https://www.reseau-magis.org
X-WR-CALDESC:Évènements pour Réseau MAGIS
REFRESH-INTERVAL;VALUE=DURATION:PT1H
X-Robots-Tag:noindex
X-PUBLISHED-TTL:PT1H
BEGIN:VTIMEZONE
TZID:Europe/Paris
BEGIN:DAYLIGHT
TZOFFSETFROM:+0100
TZOFFSETTO:+0200
TZNAME:CEST
DTSTART:20250330T010000
END:DAYLIGHT
BEGIN:STANDARD
TZOFFSETFROM:+0200
TZOFFSETTO:+0100
TZNAME:CET
DTSTART:20251026T010000
END:STANDARD
BEGIN:DAYLIGHT
TZOFFSETFROM:+0100
TZOFFSETTO:+0200
TZNAME:CEST
DTSTART:20260329T010000
END:DAYLIGHT
BEGIN:STANDARD
TZOFFSETFROM:+0200
TZOFFSETTO:+0100
TZNAME:CET
DTSTART:20261025T010000
END:STANDARD
BEGIN:DAYLIGHT
TZOFFSETFROM:+0100
TZOFFSETTO:+0200
TZNAME:CEST
DTSTART:20270328T010000
END:DAYLIGHT
BEGIN:STANDARD
TZOFFSETFROM:+0200
TZOFFSETTO:+0100
TZNAME:CET
DTSTART:20271031T010000
END:STANDARD
END:VTIMEZONE
BEGIN:VEVENT
DTSTART;VALUE=DATE:20260419
DTEND;VALUE=DATE:20260503
DTSTAMP:20260421T115504
CREATED:20240627T122150Z
LAST-MODIFIED:20260108T135026Z
UID:7275-1776556800-1777766399@www.reseau-magis.org
SUMMARY:Retraite choix de vie - Cénacle
DESCRIPTION:Retraite destinée aux jeunes de 20 à 35 ans ayant à prendre une décision importante ou à choisir un état de vie : mariage\, vie religieuse\, vie consacrée\, sacerdoce. \nAu cours de la retraite : \n\nDes indications pour prier de différentes façons\, tout particulièrement avec la Parole de Dieu\nL’aide d’un accompagnement individuel et quotidien\nDes indications de vie spirituelle pour vivre la retraite\nLa possibilité de marcher ou de faire quelques travaux manuels pour équilibrer le rythme de ses journées\nLe silence comme moyen d’entrer en relation plus vraie avec Dieu\, soi-même et les autres\nL’Eucharistie quotidienne et la prière avec la communauté\n\nPlus d’informations : https://www.ndcenacle.org/activite/retraite-choix-de-vie-magis/
URL:https://www.reseau-magis.org/event/retraite-choix-de-vie-cenacle-6/
ATTACH;FMTTYPE=image/png:https://www.reseau-magis.org/wp-content/uploads/2023/09/image_2024-01-25_150712151.png
END:VEVENT
BEGIN:VEVENT
DTSTART;VALUE=DATE:20260421
DTEND;VALUE=DATE:20260426
DTSTAMP:20260421T115504
CREATED:20250219T111008Z
LAST-MODIFIED:20260310T101704Z
UID:8101-1776729600-1777161599@www.reseau-magis.org
SUMMARY:Exercices spirituels avec le MEJ et MAGIS
DESCRIPTION:Une pause de printemps pour apprendre à prier\nEt si les vacances de Pâques devenaient un temps pour respirer\, s’ouvrir et se laisser renouveler ?Cette session d’Exercices spirituels propose aux jeunes de 15 à 25 ans une véritable pause intérieure\, du 21 au 25 avril 2026\, pendant les vacances scolaires\, au Centre spirituel de Penboc’h\, dans le diocèse de Vannes\, au bord du Golfe du Morbihan. \nPortée par le MEJ (Mouvement Eucharistique des Jeunes) en lien avec le réseau MAGIS\, cette proposition s’adresse à tous les jeunes de cette tranche d’âge\, qu’ils soient déjà engagés dans la vie de l’Église ou simplement en recherche. \nCinq jours pour apprendre à prier autrement\nInspirés de la spiritualité de saint Ignace de Loyola\, les Exercices spirituels sont une invitation à : \n\n\nPrendre du temps pour soi et pour Dieu \n\n\nApprendre à prier à partir de sa vie \n\n\nRelire ce qui fait sens \n\n\nDiscerner\, écouter\, choisir \n\n\nLa session se vit dans le silence\, afin de favoriser l’écoute intérieure\, tout en conservant ce qui fait la richesse du MEJ : vie fraternelle\, accompagnement personnel\, temps de partage\, prières et chants. \nUne expérience accessible et accompagnée\nAucun prérequis n’est nécessaire pour participer. Les jeunes sont accompagnés tout au long de la session\, dans un cadre bienveillant\, structurant et profondément humain\, propice à l’intériorité\, à la rencontre et au discernement. \n Lieu : Centre spirituel de Penboc’h (diocèse de Vannes) Dates : du 21 au 25 avril 2026 (vacances de Pâques) Public : jeunes de 15 à 25 ans Participation : 150 € \nUne invitation à se laisser renouveler\nCette session est une invitation à découvrir que la prière peut devenir un lieu de paix\, de liberté et de joie intérieure\, pour relire sa vie\, accueillir ce qui germe et avancer avec confiance. \n Inscriptions et informations pratiques :https://www.helloasso.com/associations/mej-mouvement-eucharistique-des-jeunes/evenements/exercices-spirituels-penboc-h-avril-2026
URL:https://www.reseau-magis.org/event/exercices-spirituels-chatelard-mej-magis/
ATTACH;FMTTYPE=image/png:https://www.reseau-magis.org/wp-content/uploads/2025/02/Design-sans-titre-8-e1767882021638.png
END:VEVENT
BEGIN:VEVENT
DTSTART;VALUE=DATE:20260421
DTEND;VALUE=DATE:20260426
DTSTAMP:20260421T115504
CREATED:20260311T133827Z
LAST-MODIFIED:20260317T152403Z
UID:9375-1776729600-1777161599@www.reseau-magis.org
SUMMARY:3 jours de retraite selon les Exercices Spirituels de Saint Ignace
DESCRIPTION:Tous les retraitants sont accompagnés spirituellement\, et la retraite est personnalisée en fonction des attentes\, des besoins et de l’avancée de chacun. \nChaque retraitant peut : \n\nVivre des temps de prière personnelle à partir de la parole de Dieu ou des textes proposés par son accompagnateur\nRecevoir des pistes sur la pédagogie ignatienne (manière de prier\, relire\, discerner…) ou d’autres apports pour sa vie spirituelle\nParticiper à la prière de la communauté\nProfiter de moments de détente et de repos.\n\nAucun prérequis n’est attendu. Cependant\, afin de nous permettre de vous accueillir au mieux\, merci de nous préciser dans le formulaire de contact vos attentes et votre expérience des retraites (Avez-vous déjà fait une retraite ? Individuelle\, en groupe ? …). Nous reprendrons contact avec vous pour l’inscription. \nDu 21 avril au 25 avril 2026 au centre Sophie Barat à Joigny.
URL:https://www.reseau-magis.org/event/retraite-selon-les-exercices-spirituels-de-saint-ignace/
CATEGORIES:Exercices spirituels
ATTACH;FMTTYPE=image/jpeg:https://www.reseau-magis.org/wp-content/uploads/2026/03/10460244_618751371595204_3812547798515560993_n-1.jpg
END:VEVENT
BEGIN:VEVENT
DTSTART;VALUE=DATE:20260421
DTEND;VALUE=DATE:20260428
DTSTAMP:20260421T115504
CREATED:20260311T134000Z
LAST-MODIFIED:20260317T152346Z
UID:9379-1776729600-1777334399@www.reseau-magis.org
SUMMARY:5 jours de retraite selon les Exercices Spirituels de Saint Ignace
DESCRIPTION:Tous les retraitants sont accompagnés spirituellement\, et la retraite est personnalisée en fonction des attentes\, des besoins et de l’avancée de chacun. \nChaque retraitant peut : \n\nVivre des temps de prière personnelle à partir de la parole de Dieu ou des textes proposés par son accompagnateur\nRecevoir des pistes sur la pédagogie ignatienne (manière de prier\, relire\, discerner…) ou d’autres apports pour sa vie spirituelle\nParticiper à la prière de la communauté\nProfiter de moments de détente et de repos.\n\nAucun prérequis n’est attendu. Cependant\, afin de nous permettre de vous accueillir au mieux\, merci de nous préciser dans le formulaire de contact vos attentes et votre expérience des retraites (Avez-vous déjà fait une retraite ? Individuelle\, en groupe ? …). Nous reprendrons contact avec vous pour l’inscription. \nDu 21 avril au 27 avril 2026 au centre Sophie Barat à Joigny.
URL:https://www.reseau-magis.org/event/5-jours-de-retraite-selon-les-exercices-spirituels-de-saint-ignace/
CATEGORIES:Exercices spirituels
ATTACH;FMTTYPE=image/jpeg:https://www.reseau-magis.org/wp-content/uploads/2026/03/10460244_618751371595204_3812547798515560993_n-1.jpg
END:VEVENT
END:VCALENDAR